BEGIN:VCALENDAR
VERSION:2.0
PRODID:icalendar-ruby
CALSCALE:GREGORIAN
METHOD:PUBLISH
BEGIN:VEVENT
DTSTAMP:20260422T184712Z
UID:25-1704438@friendshipaog.org
DTSTART:20260922T000000Z
DTEND:20260922T010000Z
CLASS:PUBLIC
CREATED:20260422T113208
DESCRIPTION:
LAST-MODIFIED:20260422T113208
LOCATION:Church Sanctuary
SUMMARY:Prayer 
URL;VALUE=URI:https://www.friendshipaog.org/events/prayer/2026-09-21
ATTACH;FILENAME=F7s2E.jpg;FMTTYPE=image/jpeg:https://dq5pwpg1q8ru0.cloudfro
 nt.net/2021/12/06/14/22/53/61398700-6829-4939-ba25-29594304b572/F7s2E.jpg
END:VEVENT
END:VCALENDAR
