BEGIN:VCALENDAR
VERSION:2.0
PRODID:icalendar-ruby
CALSCALE:GREGORIAN
METHOD:PUBLISH
BEGIN:VEVENT
DTSTAMP:20260422T070211Z
UID:25-1702023@friendshipaog.org
DTSTART:20260728T000000Z
DTEND:20260728T010000Z
CLASS:PUBLIC
CREATED:20260421T184452
DESCRIPTION:
LAST-MODIFIED:20260421T184452
LOCATION:Church Sanctuary
SUMMARY:Prayer 
URL;VALUE=URI:https://www.friendshipaog.org/events/prayer/2026-07-27
ATTACH;FILENAME=F7s2E.jpg;FMTTYPE=image/jpeg:https://dq5pwpg1q8ru0.cloudfro
 nt.net/2021/12/06/14/22/53/61398700-6829-4939-ba25-29594304b572/F7s2E.jpg
END:VEVENT
END:VCALENDAR
